BEGIN:VCALENDAR
VERSION:2.0
PRODID:-//dinan-tourisme.fr - ECPv6.15.20//NONSGML v1.0//EN
CALSCALE:GREGORIAN
METHOD:PUBLISH
X-ORIGINAL-URL:https://dinan-tourisme.fr
X-WR-CALDESC:Évènements pour dinan-tourisme.fr
REFRESH-INTERVAL;VALUE=DURATION:PT1H
X-Robots-Tag:noindex
X-PUBLISHED-TTL:PT1H
BEGIN:VTIMEZONE
TZID:UTC
BEGIN:STANDARD
TZOFFSETFROM:+0000
TZOFFSETTO:+0000
TZNAME:UTC
DTSTART:20240101T000000
END:STANDARD
END:VTIMEZONE
BEGIN:VEVENT
DTSTART;VALUE=DATE:20250705
DTEND;VALUE=DATE:20250707
DTSTAMP:20260424T165602
CREATED:20250203T213159Z
LAST-MODIFIED:20250203T213159Z
UID:7160-1751673600-1751846399@dinan-tourisme.fr
SUMMARY:Les Esclaffades
DESCRIPTION:Chaque année\, le festival Les Esclaffades enflamme la ville de Saint-Hélen\, transformant ses rues en un kaléidoscope de couleurs et de sons. Pendant plusieurs jours\, la ville vibre au rythme des éclats de rire et de la joie des visiteurs qui affluent de toute la région. Le festival propose une programmation éclectique\, allant du théâtre de rue aux spectacles de clowns\, en passant par les concerts et les défilés extravagants. Les artistes de renom côtoient les talents locaux\, créant une atmosphère festive et conviviale.
URL:https://dinan-tourisme.fr/event/les-esclaffades/
LOCATION:Bourg de Saint-Helen\, Le bourg\, Saint-Helen\, 22100
CATEGORIES:FESTIVAL
ORGANIZER;CN="Les Esclaffades":MAILTO:esclaffades@orange.fr
END:VEVENT
BEGIN:VEVENT
DTSTART;VALUE=DATE:20250709
DTEND;VALUE=DATE:20250714
DTSTAMP:20260424T165602
CREATED:20250203T202401Z
LAST-MODIFIED:20250203T202401Z
UID:7132-1752019200-1752451199@dinan-tourisme.fr
SUMMARY:Rencontres Internationales de harpes celtiques
DESCRIPTION:A l’affiche de ces 41ème rencontres internationales de harpes celtiques (programme détaillé à venir) : \nNadia Birkenstock & Ralf Kleeman\nGwenael Kerléo\nGillian Fleetwood\nLauren Scott\nTriangle\nWoodlands \nYvon le Quellec\nHoela Barbedette\nClaire Caillebotte\nTaezi & Ronya\nCoriolan\nShadcaravane\nEndro\nStergann \nFest Noz : Litha – Malachy Arnold
URL:https://dinan-tourisme.fr/event/rencontres-internationales-de-harpes-celtiques/
LOCATION:Théâtre des Jacobins\, rue de l'Horloge\, DINAN
CATEGORIES:FESTIVAL
END:VEVENT
BEGIN:VEVENT
DTSTART;VALUE=DATE:20250726
DTEND;VALUE=DATE:20250728
DTSTAMP:20260424T165602
CREATED:20250203T213612Z
LAST-MODIFIED:20250203T214122Z
UID:7164-1753488000-1753660799@dinan-tourisme.fr
SUMMARY:Festival Festi-Rance
DESCRIPTION:L’association Saint Samson Festivités organise FESTI-RANCE qui mobilise près d’une centaine de bénévoles de la commune et des communes avoisinantes. \nCette manifestation se déroule sur le terrain des sports communal de Saint-Samson. \nLe festival a été pensé suivant trois axes forts: \n\n\nune programmation éclectique aux styles musicaux variés (Rock\, Reggae\, Hip hop\, Celtique…) \n\n\nun choix d’artistes représentant la richesse du maillage culturel régional et national \n\nun festival à vocation sociale proposant une gratuité d’accès afin d’ouvrir cet évènement culturel au plus grand nombre.
URL:https://dinan-tourisme.fr/event/festival-festi-rance-2/
LOCATION:Terrain des sports\, Saint-Samson-Sur-Rance
CATEGORIES:FESTIVAL
ORGANIZER;CN="Saint Samson Festivit%C3%A9s":MAILTO:saintsamsonfestivites@laposte.net
END:VEVENT
END:VCALENDAR