BEGIN:VCALENDAR
VERSION:2.0
PRODID:-//dinan-tourisme.fr - ECPv6.15.20//NONSGML v1.0//EN
CALSCALE:GREGORIAN
METHOD:PUBLISH
X-ORIGINAL-URL:https://dinan-tourisme.fr
X-WR-CALDESC:Évènements pour dinan-tourisme.fr
REFRESH-INTERVAL;VALUE=DURATION:PT1H
X-Robots-Tag:noindex
X-PUBLISHED-TTL:PT1H
BEGIN:VTIMEZONE
TZID:UTC
BEGIN:STANDARD
TZOFFSETFROM:+0000
TZOFFSETTO:+0000
TZNAME:UTC
DTSTART:20240101T000000
END:STANDARD
END:VTIMEZONE
BEGIN:VEVENT
DTSTART;VALUE=DATE:20250326
DTEND;VALUE=DATE:20250331
DTSTAMP:20260425T014101
CREATED:20250203T191959Z
LAST-MODIFIED:20250203T191959Z
UID:7096-1742947200-1743379199@dinan-tourisme.fr
SUMMARY:Festival : Les rencontres magiques
DESCRIPTION:Les Rencontres Magiques : Quand Plélan-le-Petit devient la capitale de l’émerveillement \nLes Rencontres Magiques vous invitent à un festival enchanteur où la magie se déploie sous toutes ses formes. Une semaine d’émerveillement\, de découvertes et de moments partagés\, à ne surtout pas manquer. \nAu programme : \n26 mars :\n– Une conférence publique (gratuite !) pour découvrir les coulisses du monde magique.\n– Deux expositions en entrée libre qui dévoilent les secrets des plus grands magiciens. \n27 mars :\n– Spectacle pour les enfants des écoles : Un moment unique pour initier les plus jeunes aux merveilles de la magie. \n– 29 et 30 mars 2025 :\nDeux grands galas exceptionnels :\nSamedi à 20h30\nDimanche à 14h30\nPréparez-vous à applaudir des artistes incroyables qui transformeront votre réalité en un conte féérique. \nUn prix accessible : Tarif unique de 19 € pour les galas. Un investissement pour des souvenirs inoubliables. \n– Prêts à être émerveillés ? Réservez vite vos places et plongez dans l’univers fascinant des Rencontres Magiques de Plélan-le-Petit. On vous promet une semaine d’émerveillement et des souvenirs à conserver précieusement. Rendez-vous à partir du 26 mars 2025 !
URL:https://dinan-tourisme.fr/event/festival-les-rencontres-magiques/
LOCATION:L’embarcadère\, rue des plantations\, Plélan-Le-Petit\, France
CATEGORIES:FESTIVAL
ORGANIZER;CN="Le Souffle du Bateleur":MAILTO:souffledubateleur@nordnet.fr
END:VEVENT
END:VCALENDAR