BEGIN:VCALENDAR
VERSION:2.0
PRODID:-//dinan-tourisme.fr - ECPv6.15.20//NONSGML v1.0//EN
CALSCALE:GREGORIAN
METHOD:PUBLISH
X-ORIGINAL-URL:https://dinan-tourisme.fr
X-WR-CALDESC:Évènements pour dinan-tourisme.fr
REFRESH-INTERVAL;VALUE=DURATION:PT1H
X-Robots-Tag:noindex
X-PUBLISHED-TTL:PT1H
BEGIN:VTIMEZONE
TZID:UTC
BEGIN:STANDARD
TZOFFSETFROM:+0000
TZOFFSETTO:+0000
TZNAME:UTC
DTSTART:20240101T000000
END:STANDARD
END:VTIMEZONE
BEGIN:VEVENT
DTSTART;VALUE=DATE:20250531
DTEND;VALUE=DATE:20250602
DTSTAMP:20260424T200703
CREATED:20250203T201607Z
LAST-MODIFIED:20250203T201607Z
UID:7125-1748649600-1748822399@dinan-tourisme.fr
SUMMARY:Festi'Fal Les Champs-Géraux
DESCRIPTION:Les Fal’amis organisent sur 2 jours pour tous\, un festival avec des concerts de musiques de tous les styles \nAu programme\nSamedi 31 mai :\n– 17h-17h30 : déambulation en extérieur : Tapagwen\n– 17h30-18h30 : concert en intérieur : Tapagwen\n– 19h-0h : Ti Jam\, Ze Rouste\, Sueur Froide et Zero Heros \nDimanche 1er juin :\n– 11h-12h : concert de harpe à l’église avec Gaël « Les chants Celtes »\n– 12h-13h30 : Isia-Lou (folk anglais)\, sur le site du festival\n– 13h30 -15h : Clem Norman (pop-folk solo)\, en intérieur\n– 15h15-16h30 : Trims Y de trip hop organique à l’église\n– 16h30-18h : Cartier Libre\, en intérieur\n– 18h-19h : DJ Vinay-K . \nL’association Intercommunale et Intergénérationnelle  » LES FAL’AMIS  » organise sur 2 jours pour tous\, un festival avec des concerts de musiques de tous les styles\, des expositions d’oeuvres d’arts\, des démonstrations artistiques\, des stands sur le bien-être\, un marché d’artisans et producteurs locaux\, une braderie le dimanche…. \nL’objectif de cet événement est de rassembler les citoyens de tous les âges de différents milieux sociaux autour d’un moment de partage festif\, joyeux et fédérateur dans la convivialité\, centré autour d’intérêts culturels et mettre en valeur diverses formes d’expressions artistiques et créatives. \nBuvette et restauration sur place : le samedi soir la restauration sera assurée par différents types de foodtruck et le dimanche midi sera assuré par l’association avec proposition de galettes-saucisses\, pain-saucisses\, merguez et frites. \n**Tarifs des entrées :\nGratuité pour les moins de 12 ans.\n18 € la journée avec concerts en intérieur..\n27 € le pass 2 jours avec concerts en intérieur.\nRéduction pour les achats de pass en ligne.
URL:https://dinan-tourisme.fr/event/festifal-les-champs-geraux/
LOCATION:Les Champs-Géraux\, Salle des Fêtes\, Les Champs-Géraux\, France
CATEGORIES:FESTIVAL
ORGANIZER;CN="LES FAL'AMIS":MAILTO:lesfalamis@gmail.com
END:VEVENT
END:VCALENDAR