BEGIN:VCALENDAR
VERSION:2.0
PRODID:-//dinan-tourisme.fr - ECPv6.15.20//NONSGML v1.0//EN
CALSCALE:GREGORIAN
METHOD:PUBLISH
X-ORIGINAL-URL:https://dinan-tourisme.fr
X-WR-CALDESC:Évènements pour dinan-tourisme.fr
REFRESH-INTERVAL;VALUE=DURATION:PT1H
X-Robots-Tag:noindex
X-PUBLISHED-TTL:PT1H
BEGIN:VTIMEZONE
TZID:UTC
BEGIN:STANDARD
TZOFFSETFROM:+0000
TZOFFSETTO:+0000
TZNAME:UTC
DTSTART:20240101T000000
END:STANDARD
END:VTIMEZONE
BEGIN:VEVENT
DTSTART;VALUE=DATE:20250627
DTEND;VALUE=DATE:20250630
DTSTAMP:20260424T200033
CREATED:20250203T202032Z
LAST-MODIFIED:20250203T202032Z
UID:7129-1750982400-1751241599@dinan-tourisme.fr
SUMMARY:Festival L'Armor à Sons
DESCRIPTION:Descendant du Festival des Terre-Neuvas\, alors deuxième plus grand festival musical de France en termes de fréquentation (150 000 festivaliers en 2007)\, le festival l’Armor à Sons met désormais en avant son côté festif et convivial en invitant des groupes français confirmés et connus pour leur potentiel à rassembler les festivaliers sur un site à taille humaine\, mais également des artistes internationaux. \n𝗣rogramme: \n– Vendredi :\nBobital Déraille en collab’ avec Festival de Poupet & Chapi’Tonique en collab’ avec Fest Noise \n– Samedi :\nGIMS\nLeto\nTrym\nHervé\nPerceval\nVernis Rouge\nSeth Gueko & Guest\nSamba des 15 ans\nRoszalie \n  \n– Dimanche :\nClara Luciani\nMatthieu Chedid – M –\nKavinsky\nFavé\nJyeuhair\nSt Graal\nPoto Rico\nFest Noise\nLes gaillards d’en face
URL:https://dinan-tourisme.fr/event/festival-larmor-a-sons/
LOCATION:Lieu-dit Bourillet\, Lieu-dit Bourillet\, TRELIVAN\, France
CATEGORIES:FESTIVAL
ORGANIZER;CN="Association BOWIDEL":MAILTO:contact@asso-bowidel.fr
END:VEVENT
END:VCALENDAR