BEGIN:VCALENDAR
VERSION:2.0
PRODID:-//dinan-tourisme.fr - ECPv6.15.20//NONSGML v1.0//EN
CALSCALE:GREGORIAN
METHOD:PUBLISH
X-ORIGINAL-URL:https://dinan-tourisme.fr
X-WR-CALDESC:Évènements pour dinan-tourisme.fr
REFRESH-INTERVAL;VALUE=DURATION:PT1H
X-Robots-Tag:noindex
X-PUBLISHED-TTL:PT1H
BEGIN:VTIMEZONE
TZID:UTC
BEGIN:STANDARD
TZOFFSETFROM:+0000
TZOFFSETTO:+0000
TZNAME:UTC
DTSTART:20240101T000000
END:STANDARD
END:VTIMEZONE
BEGIN:VEVENT
DTSTART;VALUE=DATE:20250726
DTEND;VALUE=DATE:20250728
DTSTAMP:20260424T183408
CREATED:20250203T213612Z
LAST-MODIFIED:20250203T214122Z
UID:7164-1753488000-1753660799@dinan-tourisme.fr
SUMMARY:Festival Festi-Rance
DESCRIPTION:L’association Saint Samson Festivités organise FESTI-RANCE qui mobilise près d’une centaine de bénévoles de la commune et des communes avoisinantes. \nCette manifestation se déroule sur le terrain des sports communal de Saint-Samson. \nLe festival a été pensé suivant trois axes forts: \n\n\nune programmation éclectique aux styles musicaux variés (Rock\, Reggae\, Hip hop\, Celtique…) \n\n\nun choix d’artistes représentant la richesse du maillage culturel régional et national \n\nun festival à vocation sociale proposant une gratuité d’accès afin d’ouvrir cet évènement culturel au plus grand nombre.
URL:https://dinan-tourisme.fr/event/festival-festi-rance-2/
LOCATION:Terrain des sports\, Saint-Samson-Sur-Rance
CATEGORIES:FESTIVAL
ORGANIZER;CN="Saint Samson Festivit%C3%A9s":MAILTO:saintsamsonfestivites@laposte.net
END:VEVENT
END:VCALENDAR