BEGIN:VCALENDAR
VERSION:2.0
PRODID:-//dinan-tourisme.fr - ECPv6.15.20//NONSGML v1.0//EN
CALSCALE:GREGORIAN
METHOD:PUBLISH
X-ORIGINAL-URL:https://dinan-tourisme.fr
X-WR-CALDESC:Évènements pour dinan-tourisme.fr
REFRESH-INTERVAL;VALUE=DURATION:PT1H
X-Robots-Tag:noindex
X-PUBLISHED-TTL:PT1H
BEGIN:VTIMEZONE
TZID:UTC
BEGIN:STANDARD
TZOFFSETFROM:+0000
TZOFFSETTO:+0000
TZNAME:UTC
DTSTART:20240101T000000
END:STANDARD
END:VTIMEZONE
BEGIN:VEVENT
DTSTART;VALUE=DATE:20250801
DTEND;VALUE=DATE:20250809
DTSTAMP:20260424T200701
CREATED:20250422T101251Z
LAST-MODIFIED:20250422T101251Z
UID:7466-1754006400-1754697599@dinan-tourisme.fr
SUMMARY:Festival Été Musical à DINAN
DESCRIPTION:Créé en 2009\, « Été musical à Dinan » est un Festival de Musique Classique. \nDiversité des artistes et ensembles invités et des musiques proposées : romantique\, baroque\, contemporain\, improvisations… Et accessibilité par les prix très modiquesentrée est gratuite aux moins de 18 ans \nL’éclectisme\, l’excellence musicale\, l’accessibilité et la convivialité guident la programmation et l’esprit de ce Festival.
URL:https://dinan-tourisme.fr/event/festival-ete-musical-a-dinan/
LOCATION:DINAN\, DINAN
CATEGORIES:FESTIVAL
END:VEVENT
END:VCALENDAR