BEGIN:VCALENDAR
VERSION:2.0
PRODID:-//dinan-tourisme.fr - ECPv6.15.20//NONSGML v1.0//EN
CALSCALE:GREGORIAN
METHOD:PUBLISH
X-ORIGINAL-URL:https://dinan-tourisme.fr
X-WR-CALDESC:Évènements pour dinan-tourisme.fr
REFRESH-INTERVAL;VALUE=DURATION:PT1H
X-Robots-Tag:noindex
X-PUBLISHED-TTL:PT1H
BEGIN:VTIMEZONE
TZID:UTC
BEGIN:STANDARD
TZOFFSETFROM:+0000
TZOFFSETTO:+0000
TZNAME:UTC
DTSTART:20240101T000000
END:STANDARD
END:VTIMEZONE
BEGIN:VEVENT
DTSTART;VALUE=DATE:20250808
DTEND;VALUE=DATE:20250811
DTSTAMP:20260424T200831
CREATED:20250422T095743Z
LAST-MODIFIED:20250422T095743Z
UID:7460-1754611200-1754870399@dinan-tourisme.fr
SUMMARY:Festival No Logo BZH
DESCRIPTION:Le festival No Logo BZH est un festival de reggae et de musiques du monde crée en 2017\, en terres bretonnes. Michel Jovanovic\, son fondateur & programmateur\, étant également à l’origine du concept dans une autre région de France\, depuis 2013.\nPour la prochaine édition\, le festival No Logo BZH aura lieu de nouveau au Fort de Saint Père\, à deux pas de Saint-Malo et des plages de la Côte d’émeraude.\nLe No Logo BZH c’est trois jours de festivités et de partage\, toujours avec cette volonté de présenter le meilleur du reggae hexagonal et international du moment ; regroupant l’ensemble des styles : Roots\, Dub\, Dancehall accompagnés d’une bonne dose de musique du monde. Notre but étant toujours de proposer une programmation éclectique et de qualité\, mêlant artistes internationaux et français tout en proposant également des découvertes\, et pour un tarif abordable à toutes les bourses
URL:https://dinan-tourisme.fr/event/festival-no-logo-bzh-2/
LOCATION:Fort de Saint-Père\, Chemin Bertrand du Guesclin\, Saint-Père\, .35430
CATEGORIES:FESTIVAL
ORGANIZER;CN="Michel Jovanovic":MAILTO:contact@nologobzh.com
END:VEVENT
BEGIN:VEVENT
DTSTART;VALUE=DATE:20250809
DTEND;VALUE=DATE:20250811
DTSTAMP:20260424T200831
CREATED:20250422T094448Z
LAST-MODIFIED:20250422T094448Z
UID:7454-1754697600-1754870399@dinan-tourisme.fr
SUMMARY:Fête du blé
DESCRIPTION:La Nuit de la Fête du Blé 2025 revient le 9 août prochain à Pleudihen sur Rance. \nLa Fête du Blé\, c’est retrouver ses propres racines\, c’est découvrir une fresque vivante des temps oubliés ! \nAu programme\, découvrez un plateau exceptionnel avec les plus grandes stars de la chanson française et des artistes locaux. Cette année\, retrouvez en concert Amir et Magic System ! D’autres artistes complèteront la programmation. \nReplongez pour une soirée magique\, pour faire la fête\, danser et chanter\, en famille ou entre amis\, au cœur de l’été… \nLa garantie d’un spectacle haut en couleurs\, vivant\, une sonorité rock et une ambiance familiale\, à un prix très attractif.
URL:https://dinan-tourisme.fr/event/fete-du-ble/
LOCATION:la ville-Jean\, La Ville-Jean\, Pleudihen-sur-Rance\, France
CATEGORIES:FESTIVAL
ORGANIZER;CN="F%C3%AAte du bl%C3%A9":MAILTO:postmaster@fete-du-ble.com
END:VEVENT
END:VCALENDAR