BEGIN:VCALENDAR
VERSION:2.0
PRODID:-//dinan-tourisme.fr - ECPv6.15.20//NONSGML v1.0//EN
CALSCALE:GREGORIAN
METHOD:PUBLISH
X-ORIGINAL-URL:https://dinan-tourisme.fr
X-WR-CALDESC:Évènements pour dinan-tourisme.fr
REFRESH-INTERVAL;VALUE=DURATION:PT1H
X-Robots-Tag:noindex
X-PUBLISHED-TTL:PT1H
BEGIN:VTIMEZONE
TZID:UTC
BEGIN:STANDARD
TZOFFSETFROM:+0000
TZOFFSETTO:+0000
TZNAME:UTC
DTSTART:20240101T000000
END:STANDARD
END:VTIMEZONE
BEGIN:VEVENT
DTSTART;VALUE=DATE:20250813
DTEND;VALUE=DATE:20250817
DTSTAMP:20260424T200831
CREATED:20250422T102718Z
LAST-MODIFIED:20250422T102718Z
UID:7472-1755043200-1755388799@dinan-tourisme.fr
SUMMARY:Festival la Route du Rock
DESCRIPTION:La 33ème édition de La Route du Rock – Collection Été se déroulera du 13 au 16 août 2025 à Saint-Malo. \nLa Route du Rock est l’un des festivals de musique actuelle les plus emblématiques en France. \nIl réunit plus de 35 000 festivaliers sur quatre jours\, chaque année à Saint-Malo. \nLes premiers noms annocés sont : \n\n\nPulp et Kraftwerk
URL:https://dinan-tourisme.fr/event/festival-la-route-du-rock/
LOCATION:Fort de Saint-Père\, Chemin Bertrand du Guesclin\, Saint-Père\, .35430
CATEGORIES:FESTIVAL
END:VEVENT
END:VCALENDAR