BEGIN:VCALENDAR
VERSION:2.0
PRODID:-//dinan-tourisme.fr - ECPv6.15.20//NONSGML v1.0//EN
CALSCALE:GREGORIAN
METHOD:PUBLISH
X-ORIGINAL-URL:https://dinan-tourisme.fr
X-WR-CALDESC:Évènements pour dinan-tourisme.fr
REFRESH-INTERVAL;VALUE=DURATION:PT1H
X-Robots-Tag:noindex
X-PUBLISHED-TTL:PT1H
BEGIN:VTIMEZONE
TZID:UTC
BEGIN:STANDARD
TZOFFSETFROM:+0000
TZOFFSETTO:+0000
TZNAME:UTC
DTSTART:20240101T000000
END:STANDARD
END:VTIMEZONE
BEGIN:VEVENT
DTSTART;VALUE=DATE:20251010
DTEND;VALUE=DATE:20251013
DTSTAMP:20260424T230924
CREATED:20250203T204018Z
LAST-MODIFIED:20250203T204018Z
UID:7143-1760054400-1760313599@dinan-tourisme.fr
SUMMARY:27e édition du Festival International des Créateurs de Mode
DESCRIPTION:Le Festival International des Créateurs de Mode revient pour une 27e édition du 10 au 12 octobre 2025 au Théâtre des jacobins. \nUn festival unique entièrement ouvert au grand public : « Parcours Like »\, conférences\, défilés\, soirée de Gala  ! \n​ \nVENDREDI 10 OCTOBRE 2025   \n\n\n11H00 à 19H00\, Théâtres des Jacobins\, ouverture au public de l’exposition des collections des créateurs en compétitions \n\n\nLancement du PARCOURS LIKE\, chez les commerçants de Dinan. \n\n\n14H00 à 19H00\, Théâtre des Jacobins\, ouverture au public de l’exposition des collections des Créateurs en lice. \n\n\n14H Master-Class\, MURIEL PIASER Consulting\, pour les créateurs du Festival\, salle Charles Duclos\, Mairie de Dinan. \n\n\n16H00 à 18H00\, Table ronde\, Salle Charles Duclos\, Mairie de Dinan\, ouverte au public\, (le thème définitif sera confirmé prochainement) \n\n\n20H00\, Théâtre des Jacobins\, soirée\, sur invitation\, de Monsieur Didier Lechien\, Maire de Dinan\, en présence du futur Président d’Honneur et du Jury du Festival\, Dominique Damien Réhel Président Fondateur du Festival\, des Officiels Mairie/Festival\, des Partenaires\, de l’Union des Commercants et des Créateurs.  \n\n\n​SAMEDI 11 OCTOBRE 2025 \n\n\n10H30\, Théâtre des Jacobins\, ouverture au public de l’exposition des collections des Créateurs. \n\n\nDéfilés « La Mode dans la rue »\, ouverts au public : \n\n\n15H00\, Défilé Place de la résistance (face à la mairie de Dinan) . \n\n\n16H00\, Défilé\, sur les marches du Théâtre des Jacobins.​ \n\n\n\n\n16H30\, Théâtre des Jacobins\, inauguration officielle du Festival en présence de Monsieur le Maire Didier Lechien\, des élus de la Ville de Dinan\, du futur Président d’Honneur et du Jury du Festival et Dominique Damien Réhel\, Président Fondateur du Festival. Présentation des membres du jury. \n\n\n17H00 Défilé des collections en compétition. \n\n\n18H30 Délibération du Jury\, en privé. \n\n\n20H00 Cocktail dinatoire privé. \n\n\n21H30 Théâtre des Jacobins\, sur invitation\, présentation des Partenaires\, Remise des Prix du Festival 2025. \n\n\n23H00 Closing du festival\, soirée. \n\n\n​ \n​ \nDIMANCHE 12 OCTOBRE 2025 \n\n\n10H30\, Théâtre des Jacobins\, ouverture au public de l’exposition des collections des Créateurs. \n\n\n17H30\, Clôture du Festival 2025.​
URL:https://dinan-tourisme.fr/event/27e-edition-du-festival-international-des-createurs-de-mode/
LOCATION:Théâtre des Jacobins\, rue de l'Horloge\, DINAN
CATEGORIES:FESTIVAL
END:VEVENT
END:VCALENDAR